BEGIN:VCALENDAR
VERSION:2.0
PRODID:-//Kanu-Club Winkel e.V.//NONSGML kigkonsult.se iCalcreator 2.41.92//
CALSCALE:GREGORIAN
METHOD:PUBLISH
UID:30336338-3063-4538-b532-396136653532
X-WR-CALNAME:iCagenda
X-WR-CALDESC:Event Management Extension for Joomla!
X-WR-RELCALID:3E26604A-50F4-4449-8B3E-E4F4932D05B5
X-WR-TIMEZONE:Europe/Berlin
BEGIN:VTIMEZONE
TZID:Europe/Berlin
TZUNTIL:20271031T010000Z
BEGIN:STANDARD
TZNAME:CET
DTSTART:20251026T030000
TZOFFSETFROM:+0200
TZOFFSETTO:+0100
RDATE:20261025T030000
END:STANDARD
BEGIN:DAYLIGHT
TZNAME:CEST
DTSTART:20250330T020000
TZOFFSETFROM:+0100
TZOFFSETTO:+0200
RDATE:20260329T020000
RDATE:20270328T020000
END:DAYLIGHT
END:VTIMEZONE
BEGIN:VEVENT
UID:39313161-3138-4861-a433-663539366231
DTSTAMP:20260422T122747Z
CATEGORIES:HKV-Veranstaltungen
CLASS:PUBLIC
DESCRIPTION;ALTREP="CID:<FFFF__=0ABBE548DFE235B58f9e8a93d@coffeebean.com>":
 Strecke:  Offizielles Ziel ist der RKC in Erbach\nTreff/ Sektempfang:  10.
 30 Uhr (Sommerzeit) beim WKV\n \nEs besteht Schwimmwestenpflicht!
DTSTART:20260329T080000Z
DTEND:20260329T080000Z
GEO:+50.039299;+8.221313
LOCATION:Rhein
ORGANIZER:
SEQUENCE:1
SUMMARY:Bezirksanpaddeln 2026
TRANSP:OPAQUE
URL:http://www.kanuclub-winkel.de/index.php/veranstaltungen/20-sicherheitst
 raining-fuer-wassersportler/2026-03-29-10-00?layout=vcal
END:VEVENT
END:VCALENDAR
